BEGIN:VCALENDAR
VERSION:2.0
PRODID:-//FRPC - ECPv6.15.20//NONSGML v1.0//EN
CALSCALE:GREGORIAN
METHOD:PUBLISH
X-WR-CALNAME:FRPC
X-ORIGINAL-URL:https://frpc.ca
X-WR-CALDESC:Events for FRPC
REFRESH-INTERVAL;VALUE=DURATION:PT1H
X-Robots-Tag:noindex
X-PUBLISHED-TTL:PT1H
BEGIN:VTIMEZONE
TZID:America/Toronto
BEGIN:DAYLIGHT
TZOFFSETFROM:-0500
TZOFFSETTO:-0400
TZNAME:EDT
DTSTART:20250309T070000
END:DAYLIGHT
BEGIN:STANDARD
TZOFFSETFROM:-0400
TZOFFSETTO:-0500
TZNAME:EST
DTSTART:20251102T060000
END:STANDARD
BEGIN:DAYLIGHT
TZOFFSETFROM:-0500
TZOFFSETTO:-0400
TZNAME:EDT
DTSTART:20260308T070000
END:DAYLIGHT
BEGIN:STANDARD
TZOFFSETFROM:-0400
TZOFFSETTO:-0500
TZNAME:EST
DTSTART:20261101T060000
END:STANDARD
BEGIN:DAYLIGHT
TZOFFSETFROM:-0500
TZOFFSETTO:-0400
TZNAME:EDT
DTSTART:20270314T070000
END:DAYLIGHT
BEGIN:STANDARD
TZOFFSETFROM:-0400
TZOFFSETTO:-0500
TZNAME:EST
DTSTART:20271107T060000
END:STANDARD
END:VTIMEZONE
BEGIN:VEVENT
DTSTART;TZID=America/Toronto:20260319T180000
DTEND;TZID=America/Toronto:20260319T200000
DTSTAMP:20260421T053008
CREATED:20251121T191930Z
LAST-MODIFIED:20251121T191930Z
UID:10002952-1773943200-1773950400@frpc.ca
SUMMARY:IPSC Pistol Practice - Indoor Range 6PM - 8PM
DESCRIPTION:
URL:https://frpc.ca/event/ipsc-pistol-practice-indoor-range-6pm-8pm/2026-03-19/
LOCATION:INDOOR RANGE\, Canada
CATEGORIES:IPSC
END:VEVENT
BEGIN:VEVENT
DTSTART;TZID=America/Toronto:20260326T180000
DTEND;TZID=America/Toronto:20260326T200000
DTSTAMP:20260421T053008
CREATED:20251121T191930Z
LAST-MODIFIED:20251121T191930Z
UID:10002953-1774548000-1774555200@frpc.ca
SUMMARY:IPSC Pistol Practice - Indoor Range 6PM - 8PM
DESCRIPTION:
URL:https://frpc.ca/event/ipsc-pistol-practice-indoor-range-6pm-8pm/2026-03-26/
LOCATION:INDOOR RANGE\, Canada
CATEGORIES:IPSC
END:VEVENT
BEGIN:VEVENT
DTSTART;TZID=America/Toronto:20260402T180000
DTEND;TZID=America/Toronto:20260402T200000
DTSTAMP:20260421T053008
CREATED:20251122T115711Z
LAST-MODIFIED:20251122T115711Z
UID:10002954-1775152800-1775160000@frpc.ca
SUMMARY:IPSC Pistol Practice - Indoor Range 6PM - 8PM
DESCRIPTION:
URL:https://frpc.ca/event/ipsc-pistol-practice-indoor-range-6pm-8pm-2/2026-04-02/
LOCATION:INDOOR RANGE\, Canada
CATEGORIES:IPSC
END:VEVENT
BEGIN:VEVENT
DTSTART;TZID=America/Toronto:20260409T180000
DTEND;TZID=America/Toronto:20260409T200000
DTSTAMP:20260421T053008
CREATED:20251122T115711Z
LAST-MODIFIED:20251122T115711Z
UID:10002955-1775757600-1775764800@frpc.ca
SUMMARY:IPSC Pistol Practice - Indoor Range 6PM - 8PM
DESCRIPTION:
URL:https://frpc.ca/event/ipsc-pistol-practice-indoor-range-6pm-8pm-2/2026-04-09/
LOCATION:INDOOR RANGE\, Canada
CATEGORIES:IPSC
END:VEVENT
BEGIN:VEVENT
DTSTART;TZID=America/Toronto:20260416T180000
DTEND;TZID=America/Toronto:20260416T200000
DTSTAMP:20260421T053008
CREATED:20251122T115711Z
LAST-MODIFIED:20251122T115711Z
UID:10002956-1776362400-1776369600@frpc.ca
SUMMARY:IPSC Pistol Practice - Indoor Range 6PM - 8PM
DESCRIPTION:
URL:https://frpc.ca/event/ipsc-pistol-practice-indoor-range-6pm-8pm-2/2026-04-16/
LOCATION:INDOOR RANGE\, Canada
CATEGORIES:IPSC
END:VEVENT
BEGIN:VEVENT
DTSTART;TZID=America/Toronto:20260423T180000
DTEND;TZID=America/Toronto:20260423T200000
DTSTAMP:20260421T053008
CREATED:20251122T115711Z
LAST-MODIFIED:20251122T115711Z
UID:10002957-1776967200-1776974400@frpc.ca
SUMMARY:IPSC Pistol Practice - Indoor Range 6PM - 8PM
DESCRIPTION:
URL:https://frpc.ca/event/ipsc-pistol-practice-indoor-range-6pm-8pm-2/2026-04-23/
LOCATION:INDOOR RANGE\, Canada
CATEGORIES:IPSC
END:VEVENT
BEGIN:VEVENT
DTSTART;TZID=America/Toronto:20260430T180000
DTEND;TZID=America/Toronto:20260430T200000
DTSTAMP:20260421T053008
CREATED:20251122T115711Z
LAST-MODIFIED:20251122T115711Z
UID:10002958-1777572000-1777579200@frpc.ca
SUMMARY:IPSC Pistol Practice - Indoor Range 6PM - 8PM
DESCRIPTION:
URL:https://frpc.ca/event/ipsc-pistol-practice-indoor-range-6pm-8pm-2/2026-04-30/
LOCATION:INDOOR RANGE\, Canada
CATEGORIES:IPSC
END:VEVENT
BEGIN:VEVENT
DTSTART;TZID=America/Toronto:20260911T080000
DTEND;TZID=America/Toronto:20260911T170000
DTSTAMP:20260421T053008
CREATED:20251201T233723Z
LAST-MODIFIED:20251201T233723Z
UID:10002959-1789113600-1789146000@frpc.ca
SUMMARY:IPSC Match - Bunker\, Range B & C - All Day
DESCRIPTION:
URL:https://frpc.ca/event/ipsc-match-bunker-range-b-c-all-day/
LOCATION:BUNKER\, Canada
CATEGORIES:IPSC
END:VEVENT
BEGIN:VEVENT
DTSTART;TZID=America/Toronto:20260925T080000
DTEND;TZID=America/Toronto:20260925T170000
DTSTAMP:20260421T053008
CREATED:20251201T233852Z
LAST-MODIFIED:20260415T193503Z
UID:10002960-1790323200-1790355600@frpc.ca
SUMMARY:IPSC Match - Bunker\, Range B & C - All Day
DESCRIPTION:
URL:https://frpc.ca/event/ipsc-match-bunker-range-b-c-all-day-2/
LOCATION:BUNKER\, Canada
CATEGORIES:IPSC
END:VEVENT
BEGIN:VEVENT
DTSTART;TZID=America/Toronto:20260926T080000
DTEND;TZID=America/Toronto:20260926T170000
DTSTAMP:20260421T053008
CREATED:20260415T193617Z
LAST-MODIFIED:20260415T193617Z
UID:10003042-1790409600-1790442000@frpc.ca
SUMMARY:IPSC Match - Bunker\, Range B & C - All Day
DESCRIPTION:
URL:https://frpc.ca/event/ipsc-match-bunker-range-b-c-all-day-3/
LOCATION:B RANGE
CATEGORIES:IPSC
END:VEVENT
END:VCALENDAR